BEGIN:VCALENDAR
VERSION:2.0
PRODID:calendar.online
METHOD:PUBLISH
BEGIN:VEVENT
UID:KDIG1637550813
DTSTART:20260304T180000Z
SEQUENCE:0
TRANSP:OPAQUE
DTEND:20260304T190000Z
URL:https://www.rappahannock.edu/explore-programs/programs/by-career-pathwa
 y1/diagnostic-medical-sonography.html
LOCATION:Glenns Room 154
SUMMARY:Diagnostic Medical Sonography Program Information Session 2
ATTENDEE:Students interested in applying to the DMS program.
CLASS:PUBLIC
DESCRIPTION:Attending an information session is required if you plan to app
 ly for the program.
DTSTAMP:20260424T130957Z
CREATED:20251201T183318Z
LAST-MODIFIED:20260107T182817Z
END:VEVENT
END:VCALENDAR