BEGIN:VCALENDAR
VERSION:2.0
PRODID:calendar.online
METHOD:PUBLISH
BEGIN:VEVENT
UID:KDIG605115904
DTSTART:20240219T050000Z
SEQUENCE:0
TRANSP:OPAQUE
DTEND:20240219T110000Z
LOCATION:KIC
SUMMARY:Emirati Graduate Gateway “Connecting Talent with Opportunities\"
ATTENDEE:Maha Khaled Ali Basuwaid
CLASS:PUBLIC
DESCRIPTION:Career event for the students\, brining different employers to 
 recurite for students and alumni and brining speakers for career talks\, t
 his event is a collaboration with Mawaheb Talent Hub
DTSTAMP:20260422T120358Z
CREATED:20240213T055603Z
LAST-MODIFIED:20240215T115107Z
END:VEVENT
END:VCALENDAR