BEGIN:VCALENDAR
VERSION:2.0
PRODID:calendar.online
METHOD:PUBLISH
BEGIN:VEVENT
UID:KDIG1637523538
DTSTART:20260211T180000Z
SEQUENCE:0
TRANSP:OPAQUE
DTEND:20260211T190000Z
URL:https://www.rappahannock.edu/explore-programs/programs/by-career-pathwa
 y1/diagnostic-medical-sonography.html
LOCATION:Glenns Room 154
SUMMARY:Diagnostic Medical Sonography Program Information Session 1
ATTENDEE:Students interested in applying to the DMS program.
CLASS:PUBLIC
DESCRIPTION:Attending an information session is required if you plan to app
 ly for the program.
DTSTAMP:20260424T131911Z
CREATED:20251201T183007Z
LAST-MODIFIED:20260107T182807Z
END:VEVENT
END:VCALENDAR