BEGIN:VCALENDAR
VERSION:2.0
PRODID:calendar.online
METHOD:PUBLISH
BEGIN:VEVENT
UID:KDIG997529741
DTSTART:20250424T220000Z
SEQUENCE:0
TRANSP:OPAQUE
DTEND:20250425T000000Z
LOCATION:Sunrise & Barefoots Deck
SUMMARY:ATA'25 Welcome Reception
ATTENDEE:All Convention Attendees
CLASS:PUBLIC
DESCRIPTION:ATA'25 Welcome Reception
DTSTAMP:20260419T182211Z
CREATED:20250205T203948Z
LAST-MODIFIED:20250205T210536Z
END:VEVENT
END:VCALENDAR